Workbook
Name Список: OFFSET(#REF!,0,0,MAX(#REF!),1)

Sheet Детали раскроя
A1: Кроить | B1: Тип материала | C1: Материал | D1: Артикул материала | E1: Толщина | F1: Позиция | G1: Наименования | H1: Длина распиловочная | I1: Ширина распиловочная | J1: Длина готовая (L) | K1: Ширина готовая (W) | L1: Кол-во | M1: Ориентация | N1: Паз | O1: L1 - Наим. | P1: L1 - Обозн. | Q1: L1 - Толщина | R1: L2 - Наим. | S1: L2 - Обозн. | T1: L2 - Толщина | U1: W1 - Наим. | V1: W1 - Обозн. | W1: W1 - Толщина | X1: W2 - Наим. | Y1: W2 - Обозн. | Z1: W2 - Толщина | AA1: Приоритет | AB1: Комментарий | AC1: %Оригинальный материал | AD1: %Облицовка пласти верх 1 | AE1: %Облицовка пласти низ 1
B2: Погонный | C2: =IF('Бланк для заполнения'!$C$7=0,1111,'Бланк для заполнения'!$C$7) -> 1111 | D2: =IF('Бланк для заполнения'!$D$7=0,1111,'Бланк для заполнения'!$D$7) -> 1111 | F2: 1 А | J2: =IF('Бланк для заполнения'!E7=0,1111,'Бланк для заполнения'!E7) -> 1111 | K2: 600 | L2: =IF('Бланк для заполнения'!$G$7=0,1111,'Бланк для заполнения'!$G$7*2) -> 1111
B3: Погонный | C3: =IF('Бланк для заполнения'!$C$7=0,1111,'Бланк для заполнения'!$C$7) -> 1111 | D3: =IF('Бланк для заполнения'!$D$7=0,1111,'Бланк для заполнения'!$D$7) -> 1111 | F3: 1 В | J3: =IF('Бланк для заполнения'!$F$7=0,1111,'Бланк для заполнения'!$F$7) -> 1111 | K3: 600 | L3: =IF('Бланк для заполнения'!$G$7=0,1111,'Бланк для заполнения'!$G$7*2) -> 1111
B4: Погонный | C4: =IF('Бланк для заполнения'!$C$8=0,1111,'Бланк для заполнения'!$C$8) -> 1111 | D4: =IF('Бланк для заполнения'!$D$8=0,1111,'Бланк для заполнения'!$D$8) -> 1111 | F4: 2 А | J4: =IF('Бланк для заполнения'!E8=0,1111,'Бланк для заполнения'!E8) -> 1111 | K4: 600 | L4: =IF('Бланк для заполнения'!$G$8=0,1111,'Бланк для заполнения'!$G$8*2) -> 1111
B5: Погонный | C5: =IF('Бланк для заполнения'!$C$8=0,1111,'Бланк для заполнения'!$C$8) -> 1111 | D5: =IF('Бланк для заполнения'!$D$8=0,1111,'Бланк для заполнения'!$D$8) -> 1111 | F5: 2 В | J5: =IF('Бланк для заполнения'!$F$8=0,1111,'Бланк для заполнения'!$F$8) -> 1111 | K5: 600 | L5: =IF('Бланк для заполнения'!$G$8=0,1111,'Бланк для заполнения'!$G$8*2) -> 1111
B6: Погонный | C6: =IF('Бланк для заполнения'!$C$9=0,1111,'Бланк для заполнения'!$C$9) -> 1111 | D6: =IF('Бланк для заполнения'!$D$9=0,1111,'Бланк для заполнения'!$D$9) -> 1111 | F6: 3 А | J6: =IF('Бланк для заполнения'!E9=0,1111,'Бланк для заполнения'!E9) -> 1111 | K6: 600 | L6: =IF('Бланк для заполнения'!$G$9=0,1111,'Бланк для заполнения'!$G$9*2) -> 1111
B7: Погонный | C7: =IF('Бланк для заполнения'!$C$9=0,1111,'Бланк для заполнения'!$C$9) -> 1111 | D7: =IF('Бланк для заполнения'!$D$9=0,1111,'Бланк для заполнения'!$D$9) -> 1111 | F7: 3 В | J7: =IF('Бланк для заполнения'!$F$9=0,1111,'Бланк для заполнения'!$F$9) -> 1111 | K7: 600 | L7: =IF('Бланк для заполнения'!$G$9=0,1111,'Бланк для заполнения'!$G$9*2) -> 1111
B8: Погонный | C8: =IF('Бланк для заполнения'!$C$10=0,1111,'Бланк для заполнения'!$C$10) -> 1111 | D8: =IF('Бланк для заполнения'!$D$10=0,1111,'Бланк для заполнения'!$D$10) -> 1111 | F8: 4 А | J8: =IF('Бланк для заполнения'!E10=0,1111,'Бланк для заполнения'!E10) -> 1111 | K8: 600 | L8: =IF('Бланк для заполнения'!$G$10=0,1111,'Бланк для заполнения'!$G$10*2) -> 1111
B9: Погонный | C9: =IF('Бланк для заполнения'!$C$10=0,1111,'Бланк для заполнения'!$C$10) -> 1111 | D9: =IF('Бланк для заполнения'!$D$10=0,1111,'Бланк для заполнения'!$D$10) -> 1111 | F9: 4 В | J9: =IF('Бланк для заполнения'!$F$10=0,1111,'Бланк для заполнения'!$F$10) -> 1111 | K9: 600 | L9: =IF('Бланк для заполнения'!$G$10=0,1111,'Бланк для заполнения'!$G$10*2) -> 1111
B10: Погонный | C10: =IF('Бланк для заполнения'!$C$11=0,1111,'Бланк для заполнения'!$C$11) -> 1111 | D10: =IF('Бланк для заполнения'!$D$11=0,1111,'Бланк для заполнения'!$D$11) -> 1111 | F10: 5 А | J10: =IF('Бланк для заполнения'!E11=0,1111,'Бланк для заполнения'!E11) -> 1111 | K10: 600 | L10: =IF('Бланк для заполнения'!$G$11=0,1111,'Бланк для заполнения'!$G$11*2) -> 1111
B11: Погонный | C11: =IF('Бланк для заполнения'!$C$11=0,1111,'Бланк для заполнения'!$C$11) -> 1111 | D11: =IF('Бланк для заполнения'!$D$11=0,1111,'Бланк для заполнения'!$D$11) -> 1111 | F11: 5 В | J11: =IF('Бланк для заполнения'!$F$11=0,1111,'Бланк для заполнения'!$F$11) -> 1111 | K11: 600 | L11: =IF('Бланк для заполнения'!$G$11=0,1111,'Бланк для заполнения'!$G$11*2) -> 1111
B12: Погонный | C12: =IF('Бланк для заполнения'!$C$12=0,1111,'Бланк для заполнения'!$C$12) -> 1111 | D12: =IF('Бланк для заполнения'!$D$12=0,1111,'Бланк для заполнения'!$D$12) -> 1111 | F12: 6 А | J12: =IF('Бланк для заполнения'!E12=0,1111,'Бланк для заполнения'!E12) -> 1111 | K12: 600 | L12: =IF('Бланк для заполнения'!$G$12=0,1111,'Бланк для заполнения'!$G$12*2) -> 1111
B13: Погонный | C13: =IF('Бланк для заполнения'!$C$12=0,1111,'Бланк для заполнения'!$C$12) -> 1111 | D13: =IF('Бланк для заполнения'!$D$12=0,1111,'Бланк для заполнения'!$D$12) -> 1111 | F13: 6 В | J13: =IF('Бланк для заполнения'!$F$12=0,1111,'Бланк для заполнения'!$F$12) -> 1111 | K13: 600 | L13: =IF('Бланк для заполнения'!$G$12=0,1111,'Бланк для заполнения'!$G$12*2) -> 1111
B14: Погонный | C14: =IF('Бланк для заполнения'!$C$13=0,1111,'Бланк для заполнения'!$C$13) -> 1111 | D14: =IF('Бланк для заполнения'!$D$13=0,1111,'Бланк для заполнения'!$D$13) -> 1111 | F14: 7 А | J14: =IF('Бланк для заполнения'!E13=0,1111,'Бланк для заполнения'!E13) -> 1111 | K14: 600 | L14: =IF('Бланк для заполнения'!$G$13=0,1111,'Бланк для заполнения'!$G$13*2) -> 1111
B15: Погонный | C15: =IF('Бланк для заполнения'!$C$13=0,1111,'Бланк для заполнения'!$C$13) -> 1111 | D15: =IF('Бланк для заполнения'!$D$13=0,1111,'Бланк для заполнения'!$D$13) -> 1111 | F15: 7 В | J15: =IF('Бланк для заполнения'!$F$13=0,1111,'Бланк для заполнения'!$F$13) -> 1111 | K15: 600 | L15: =IF('Бланк для заполнения'!$G$13=0,1111,'Бланк для заполнения'!$G$13*2) -> 1111
B16: Погонный | C16: =IF('Бланк для заполнения'!$C$14=0,1111,'Бланк для заполнения'!$C$14) -> 1111 | D16: =IF('Бланк для заполнения'!$D$14=0,1111,'Бланк для заполнения'!$D$14) -> 1111 | F16: 8 А | J16: =IF('Бланк для заполнения'!E14=0,1111,'Бланк для заполнения'!E14) -> 1111 | K16: 600 | L16: =IF('Бланк для заполнения'!$G$14=0,1111,'Бланк для заполнения'!$G$14*2) -> 1111
B17: Погонный | C17: =IF('Бланк для заполнения'!$C$14=0,1111,'Бланк для заполнения'!$C$14) -> 1111 | D17: =IF('Бланк для заполнения'!$D$14=0,1111,'Бланк для заполнения'!$D$14) -> 1111 | F17: 8 В | J17: =IF('Бланк для заполнения'!$F$14=0,1111,'Бланк для заполнения'!$F$14) -> 1111 | K17: 600 | L17: =IF('Бланк для заполнения'!$G$14=0,1111,'Бланк для заполнения'!$G$14*2) -> 1111
B18: Погонный | C18: =IF('Бланк для заполнения'!$C$15=0,1111,'Бланк для заполнения'!$C$15) -> 1111 | D18: =IF('Бланк для заполнения'!$D$15=0,1111,'Бланк для заполнения'!$D$15) -> 1111 | F18: 9 А | J18: =IF('Бланк для заполнения'!E15=0,1111,'Бланк для заполнения'!E15) -> 1111 | K18: 600 | L18: =IF('Бланк для заполнения'!$G$15=0,1111,'Бланк для заполнения'!$G$15*2) -> 1111
B19: Погонный | C19: =IF('Бланк для заполнения'!$C$15=0,1111,'Бланк для заполнения'!$C$15) -> 1111 | D19: =IF('Бланк для заполнения'!$D$15=0,1111,'Бланк для заполнения'!$D$15) -> 1111 | F19: 9 В | J19: =IF('Бланк для заполнения'!$F$15=0,1111,'Бланк для заполнения'!$F$15) -> 1111 | K19: 600 | L19: =IF('Бланк для заполнения'!$G$15=0,1111,'Бланк для заполнения'!$G$15*2) -> 1111
B20: Погонный | C20: =IF('Бланк для заполнения'!$C$16=0,1111,'Бланк для заполнения'!$C$16) -> 1111 | D20: =IF('Бланк для заполнения'!$D$16=0,1111,'Бланк для заполнения'!$D$16) -> 1111 | F20: 10 А | J20: =IF('Бланк для заполнения'!E16=0,1111,'Бланк для заполнения'!E16) -> 1111 | K20: 600 | L20: =IF('Бланк для заполнения'!$G$16=0,1111,'Бланк для заполнения'!$G$16*2) -> 1111
B21: Погонный | C21: =IF('Бланк для заполнения'!$C$16=0,1111,'Бланк для заполнения'!$C$16) -> 1111 | D21: =IF('Бланк для заполнения'!$D$16=0,1111,'Бланк для заполнения'!$D$16) -> 1111 | F21: 10 В | J21: =IF('Бланк для заполнения'!$F$16=0,1111,'Бланк для заполнения'!$F$16) -> 1111 | K21: 600 | L21: =IF('Бланк для заполнения'!$G$16=0,1111,'Бланк для заполнения'!$G$16*2) -> 1111
B22: Погонный | C22: =IF('Бланк для заполнения'!$C$17=0,1111,'Бланк для заполнения'!$C$17) -> 1111 | D22: =IF('Бланк для заполнения'!$D$17=0,1111,'Бланк для заполнения'!$D$17) -> 1111 | F22: 11 А | J22: =IF('Бланк для заполнения'!E17=0,1111,'Бланк для заполнения'!E17) -> 1111 | K22: 600 | L22: =IF('Бланк для заполнения'!$G$17=0,1111,'Бланк для заполнения'!$G$17*2) -> 1111
B23: Погонный | C23: =IF('Бланк для заполнения'!$C$17=0,1111,'Бланк для заполнения'!$C$17) -> 1111 | D23: =IF('Бланк для заполнения'!$D$17=0,1111,'Бланк для заполнения'!$D$17) -> 1111 | F23: 11 В | J23: =IF('Бланк для заполнения'!$F$17=0,1111,'Бланк для заполнения'!$F$17) -> 1111 | K23: 600 | L23: =IF('Бланк для заполнения'!$G$17=0,1111,'Бланк для заполнения'!$G$17*2) -> 1111
B24: Погонный | C24: =IF('Бланк для заполнения'!$C$18=0,1111,'Бланк для заполнения'!$C$18) -> 1111 | D24: =IF('Бланк для заполнения'!$D$18=0,1111,'Бланк для заполнения'!$D$18) -> 1111 | F24: 12 А | J24: =IF('Бланк для заполнения'!E18=0,1111,'Бланк для заполнения'!E18) -> 1111 | K24: 600 | L24: =IF('Бланк для заполнения'!$G$18=0,1111,'Бланк для заполнения'!$G$18*2) -> 1111
B25: Погонный | C25: =IF('Бланк для заполнения'!$C$18=0,1111,'Бланк для заполнения'!$C$18) -> 1111 | D25: =IF('Бланк для заполнения'!$D$18=0,1111,'Бланк для заполнения'!$D$18) -> 1111 | F25: 12 В | J25: =IF('Бланк для заполнения'!$F$18=0,1111,'Бланк для заполнения'!$F$18) -> 1111 | K25: 600 | L25: =IF('Бланк для заполнения'!$G$18=0,1111,'Бланк для заполнения'!$G$18*2) -> 1111
B26: Погонный | C26: =IF('Бланк для заполнения'!$C$19=0,1111,'Бланк для заполнения'!$C$19) -> 1111 | D26: =IF('Бланк для заполнения'!$D$19=0,1111,'Бланк для заполнения'!$D$19) -> 1111 | F26: 13 А | J26: =IF('Бланк для заполнения'!E19=0,1111,'Бланк для заполнения'!E19) -> 1111 | K26: 600 | L26: =IF('Бланк для заполнения'!$G$19=0,1111,'Бланк для заполнения'!$G$19*2) -> 1111
B27: Погонный | C27: =IF('Бланк для заполнения'!$C$19=0,1111,'Бланк для заполнения'!$C$19) -> 1111 | D27: =IF('Бланк для заполнения'!$D$19=0,1111,'Бланк для заполнения'!$D$19) -> 1111 | F27: 13 В | J27: =IF('Бланк для заполнения'!$F$19=0,1111,'Бланк для заполнения'!$F$19) -> 1111 | K27: 600 | L27: =IF('Бланк для заполнения'!$G$19=0,1111,'Бланк для заполнения'!$G$19*2) -> 1111
B28: Погонный | C28: =IF('Бланк для заполнения'!$C$20=0,1111,'Бланк для заполнения'!$C$20) -> 1111 | D28: =IF('Бланк для заполнения'!$D$20=0,1111,'Бланк для заполнения'!$D$20) -> 1111 | F28: 14 А | J28: =IF('Бланк для заполнения'!E20=0,1111,'Бланк для заполнения'!E20) -> 1111 | K28: 600 | L28: =IF('Бланк для заполнения'!$G$20=0,1111,'Бланк для заполнения'!$G$20*2) -> 1111
B29: Погонный | C29: =IF('Бланк для заполнения'!$C$20=0,1111,'Бланк для заполнения'!$C$20) -> 1111 | D29: =IF('Бланк для заполнения'!$D$20=0,1111,'Бланк для заполнения'!$D$20) -> 1111 | F29: 14 В | J29: =IF('Бланк для заполнения'!$F$20=0,1111,'Бланк для заполнения'!$F$20) -> 1111 | K29: 600 | L29: =IF('Бланк для заполнения'!$G$20=0,1111,'Бланк для заполнения'!$G$20*2) -> 1111
B30: Погонный | C30: =IF('Бланк для заполнения'!$C$21=0,1111,'Бланк для заполнения'!$C$21) -> 1111 | D30: =IF('Бланк для заполнения'!$D$21=0,1111,'Бланк для заполнения'!$D$21) -> 1111 | F30: 15 А | J30: =IF('Бланк для заполнения'!E21=0,1111,'Бланк для заполнения'!E21) -> 1111 | K30: 600 | L30: =IF('Бланк для заполнения'!$G$21=0,1111,'Бланк для заполнения'!$G$21*2) -> 1111
B31: Погонный | C31: =IF('Бланк для заполнения'!$C$21=0,1111,'Бланк для заполнения'!$C$21) -> 1111 | D31: =IF('Бланк для заполнения'!$D$21=0,1111,'Бланк для заполнения'!$D$21) -> 1111 | F31: 15 В | J31: =IF('Бланк для заполнения'!$F$21=0,1111,'Бланк для заполнения'!$F$21) -> 1111 | K31: 600 | L31: =IF('Бланк для заполнения'!$G$21=0,1111,'Бланк для заполнения'!$G$21*2) -> 1111
B32: Погонный | C32: =IF('Бланк для заполнения'!$C$22=0,1111,'Бланк для заполнения'!$C$22) -> 1111 | D32: =IF('Бланк для заполнения'!$D$22=0,1111,'Бланк для заполнения'!$D$22) -> 1111 | F32: 16 А | J32: =IF('Бланк для заполнения'!E22=0,1111,'Бланк для заполнения'!E22) -> 1111 | K32: 600 | L32: =IF('Бланк для заполнения'!$G$22=0,1111,'Бланк для заполнения'!$G$22*2) -> 1111
B33: Погонный | C33: =IF('Бланк для заполнения'!$C$22=0,1111,'Бланк для заполнения'!$C$22) -> 1111 | D33: =IF('Бланк для заполнения'!$D$22=0,1111,'Бланк для заполнения'!$D$22) -> 1111 | F33: 16 В | J33: =IF('Бланк для заполнения'!$F$22=0,1111,'Бланк для заполнения'!$F$22) -> 1111 | K33: 600 | L33: =IF('Бланк для заполнения'!$G$22=0,1111,'Бланк для заполнения'!$G$22*2) -> 1111
B34: Погонный | C34: =IF('Бланк для заполнения'!$C$23=0,1111,'Бланк для заполнения'!$C$23) -> 1111 | D34: =IF('Бланк для заполнения'!$D$23=0,1111,'Бланк для заполнения'!$D$23) -> 1111 | F34: 17 А | J34: =IF('Бланк для заполнения'!E23=0,1111,'Бланк для заполнения'!E23) -> 1111 | K34: 600 | L34: =IF('Бланк для заполнения'!$G$23=0,1111,'Бланк для заполнения'!$G$23*2) -> 1111
B35: Погонный | C35: =IF('Бланк для заполнения'!$C$23=0,1111,'Бланк для заполнения'!$C$23) -> 1111 | D35: =IF('Бланк для заполнения'!$D$23=0,1111,'Бланк для заполнения'!$D$23) -> 1111 | F35: 17 В | J35: =IF('Бланк для заполнения'!$F$23=0,1111,'Бланк для заполнения'!$F$23) -> 1111 | K35: 600 | L35: =IF('Бланк для заполнения'!$G$23=0,1111,'Бланк для заполнения'!$G$23*2) -> 1111
B36: Погонный | C36: =IF('Бланк для заполнения'!$C$24=0,1111,'Бланк для заполнения'!$C$24) -> 1111 | D36: =IF('Бланк для заполнения'!$D$24=0,1111,'Бланк для заполнения'!$D$24) -> 1111 | F36: 18 А | J36: =IF('Бланк для заполнения'!E24=0,1111,'Бланк для заполнения'!E24) -> 1111 | K36: 600 | L36: =IF('Бланк для заполнения'!$G$24=0,1111,'Бланк для заполнения'!$G$24*2) -> 1111
B37: Погонный | C37: =IF('Бланк для заполнения'!$C$24=0,1111,'Бланк для заполнения'!$C$24) -> 1111 | D37: =IF('Бланк для заполнения'!$D$24=0,1111,'Бланк для заполнения'!$D$24) -> 1111 | F37: 18 В | J37: =IF('Бланк для заполнения'!$F$24=0,1111,'Бланк для заполнения'!$F$24) -> 1111 | K37: 600 | L37: =IF('Бланк для заполнения'!$G$24=0,1111,'Бланк для заполнения'!$G$24*2) -> 1111
B38: Погонный | C38: =IF('Бланк для заполнения'!$C$25=0,1111,'Бланк для заполнения'!$C$25) -> 1111 | D38: =IF('Бланк для заполнения'!$D$25=0,1111,'Бланк для заполнения'!$D$25) -> 1111 | F38: 19 А | J38: =IF('Бланк для заполнения'!E25=0,1111,'Бланк для заполнения'!E25) -> 1111 | K38: 600 | L38: =IF('Бланк для заполнения'!$G$25=0,1111,'Бланк для заполнения'!$G$25*2) -> 1111
B39: Погонный | C39: =IF('Бланк для заполнения'!$C$25=0,1111,'Бланк для заполнения'!$C$25) -> 1111 | D39: =IF('Бланк для заполнения'!$D$25=0,1111,'Бланк для заполнения'!$D$25) -> 1111 | F39: 19 В | J39: =IF('Бланк для заполнения'!$F$25=0,1111,'Бланк для заполнения'!$F$25) -> 1111 | K39: 600 | L39: =IF('Бланк для заполнения'!$G$25=0,1111,'Бланк для заполнения'!$G$25*2) -> 1111
B40: Погонный | C40: =IF('Бланк для заполнения'!$C$26=0,1111,'Бланк для заполнения'!$C$26) -> 1111 | D40: =IF('Бланк для заполнения'!$D$26=0,1111,'Бланк для заполнения'!$D$26) -> 1111 | F40: 20 А | J40: =IF('Бланк для заполнения'!E26=0,1111,'Бланк для заполнения'!E26) -> 1111 | K40: 600 | L40: =IF('Бланк для заполнения'!$G$26=0,1111,'Бланк для заполнения'!$G$26*2) -> 1111
...

Sheet Бланк для заполнения
B1: Обязательно к заполнению | S1: Ячейки с таким цветом НЕ ЗАПОЛНЯЮТСЯ
B2: Организация (ФИО) | G2: Контактный номер телефона (Email) | L2: Доп.Упаковка | M2: Адрес доставки /Самовывоз
S3: Ячейки с таким цветом ЗАПОЛНЯЮТСЯ ЗАКАЗЧИКОМ
B5: №п/п | C5: Профиль | D5: Цвет профиля | E5: Размеры Фасада мм | G5: Кол-во рамок | H5: Размер от края рамки до ручки (У) | I5: Периметр рамки с отпилом | J5: Цвет Уплотнителя и винтов | K5: Комплект уголок+ винты | L5: Присадка под петли | N5: Присадка отверстий, мм (всегда по стороне А) | T5: Кол-во петель на 1 рамку | U5: Общее кол-во отверстий | V5: Кол-во профиля
E6: Сторона(А) | F6: Сторона(В) | L6: Бренд | M6: Открывание | N6: Х1 | O6: Х2 | P6: Х3 | Q6: Х4 | R6: Х5 | S6: Х6
B7: 1 | I7: =((E7+20)*2+(F7+20)*2)*G7 -> 0 | K7: =G7 -> 0 | T7: =IF(SUM(N7:S7)>0,COUNTIF(N7:S7,">0"),0) -> 0 | U7: =IF(SUM(N7:S7)>0,COUNTIF(N7:S7,">0"),0)*G7 -> 0 | V7: =IF(SUM(E7:G7)>0,CEILING(IF(SUM(E7:G7)>0,CEILING(((E7+20)*2+(F7+20)*2)*G7,2950)/6000," "),0.5)," ") | X7: ВИД ФАСАДА С ЛИЦЕВОЙ СТОРОНЫ !
B8: 2 | I8: =((E8+20)*2+(F8+20)*2)*G8 -> 0 | K8: =G8 -> 0 | T8: =IF(SUM(N8:S8)>0,COUNTIF(N8:S8,">0"),0) -> 0 | U8: =IF(SUM(N8:S8)>0,COUNTIF(N8:S8,">0"),0)*G8 -> 0 | V8: =IF(SUM(E8:G8)>0,CEILING(IF(SUM(E8:G8)>0,CEILING(((E8+20)*2+(F8+20)*2)*G8,2950)/6000," "),0.5)," ")
B9: 3 | I9: =((E9+20)*2+(F9+20)*2)*G9 -> 0 | K9: =G9 -> 0 | T9: =IF(SUM(N9:S9)>0,COUNTIF(N9:S9,">0"),0) -> 0 | U9: =IF(SUM(N9:S9)>0,COUNTIF(N9:S9,">0"),0)*G9 -> 0 | V9: =IF(SUM(E9:G9)>0,CEILING(IF(SUM(E9:G9)>0,CEILING(((E9+20)*2+(F9+20)*2)*G9,2950)/6000," "),0.5)," ")
B10: 4 | I10: =((E10+20)*2+(F10+20)*2)*G10 -> 0 | K10: =G10 -> 0 | T10: =IF(SUM(N10:S10)>0,COUNTIF(N10:S10,">0"),0) -> 0 | U10: =IF(SUM(N10:S10)>0,COUNTIF(N10:S10,">0"),0)*G10 -> 0 | V10: =IF(SUM(E10:G10)>0,CEILING(IF(SUM(E10:G10)>0,CEILING(((E10+20)*2+(F10+20)*2)*G10,2950)/6000," "),0.5)," ")
B11: 5 | I11: =((E11+20)*2+(F11+20)*2)*G11 -> 0 | K11: =G11 -> 0 | T11: =IF(SUM(N11:S11)>0,COUNTIF(N11:S11,">0"),0) -> 0 | U11: =IF(SUM(N11:S11)>0,COUNTIF(N11:S11,">0"),0)*G11 -> 0 | V11: =IF(SUM(E11:G11)>0,CEILING(IF(SUM(E11:G11)>0,CEILING(((E11+20)*2+(F11+20)*2)*G11,2950)/6000," "),0.5)," ")
B12: 6 | I12: =((E12+20)*2+(F12+20)*2)*G12 -> 0 | K12: =G12 -> 0 | T12: =IF(SUM(N12:S12)>0,COUNTIF(N12:S12,">0"),0) -> 0 | U12: =IF(SUM(N12:S12)>0,COUNTIF(N12:S12,">0"),0)*G12 -> 0 | V12: =IF(SUM(E12:G12)>0,CEILING(IF(SUM(E12:G12)>0,CEILING(((E12+20)*2+(F12+20)*2)*G12,2950)/6000," "),0.5)," ")
B13: 7 | I13: =((E13+20)*2+(F13+20)*2)*G13 -> 0 | K13: =G13 -> 0 | T13: =IF(SUM(N13:S13)>0,COUNTIF(N13:S13,">0"),0) -> 0 | U13: =IF(SUM(N13:S13)>0,COUNTIF(N13:S13,">0"),0)*G13 -> 0 | V13: =IF(SUM(E13:G13)>0,CEILING(IF(SUM(E13:G13)>0,CEILING(((E13+20)*2+(F13+20)*2)*G13,2950)/6000," "),0.5)," ")
B14: 8 | I14: =((E14+20)*2+(F14+20)*2)*G14 -> 0 | K14: =G14 -> 0 | T14: =IF(SUM(N14:S14)>0,COUNTIF(N14:S14,">0"),0) -> 0 | U14: =IF(SUM(N14:S14)>0,COUNTIF(N14:S14,">0"),0)*G14 -> 0 | V14: =IF(SUM(E14:G14)>0,CEILING(IF(SUM(E14:G14)>0,CEILING(((E14+20)*2+(F14+20)*2)*G14,2950)/6000," "),0.5)," ")
B15: 9 | I15: =((E15+20)*2+(F15+20)*2)*G15 -> 0 | K15: =G15 -> 0 | T15: =IF(SUM(N15:S15)>0,COUNTIF(N15:S15,">0"),0) -> 0 | U15: =IF(SUM(N15:S15)>0,COUNTIF(N15:S15,">0"),0)*G15 -> 0 | V15: =IF(SUM(E15:G15)>0,CEILING(IF(SUM(E15:G15)>0,CEILING(((E15+20)*2+(F15+20)*2)*G15,2950)/6000," "),0.5)," ")
B16: 10 | I16: =((E16+20)*2+(F16+20)*2)*G16 -> 0 | K16: =G16 -> 0 | T16: =IF(SUM(N16:S16)>0,COUNTIF(N16:S16,">0"),0) -> 0 | U16: =IF(SUM(N16:S16)>0,COUNTIF(N16:S16,">0"),0)*G16 -> 0 | V16: =IF(SUM(E16:G16)>0,CEILING(IF(SUM(E16:G16)>0,CEILING(((E16+20)*2+(F16+20)*2)*G16,2950)/6000," "),0.5)," ")
B17: 11 | I17: =((E17+20)*2+(F17+20)*2)*G17 -> 0 | K17: =G17 -> 0 | T17: =IF(SUM(N17:S17)>0,COUNTIF(N17:S17,">0"),0) -> 0 | U17: =IF(SUM(N17:S17)>0,COUNTIF(N17:S17,">0"),0)*G17 -> 0 | V17: =IF(SUM(E17:G17)>0,CEILING(IF(SUM(E17:G17)>0,CEILING(((E17+20)*2+(F17+20)*2)*G17,2950)/6000," "),0.5)," ")
B18: 12 | I18: =((E18+20)*2+(F18+20)*2)*G18 -> 0 | K18: =G18 -> 0 | T18: =IF(SUM(N18:S18)>0,COUNTIF(N18:S18,">0"),0) -> 0 | U18: =IF(SUM(N18:S18)>0,COUNTIF(N18:S18,">0"),0)*G18 -> 0 | V18: =IF(SUM(E18:G18)>0,CEILING(IF(SUM(E18:G18)>0,CEILING(((E18+20)*2+(F18+20)*2)*G18,2950)/6000," "),0.5)," ")
B19: 13 | I19: =((E19+20)*2+(F19+20)*2)*G19 -> 0 | K19: =G19 -> 0 | T19: =IF(SUM(N19:S19)>0,COUNTIF(N19:S19,">0"),0) -> 0 | U19: =IF(SUM(N19:S19)>0,COUNTIF(N19:S19,">0"),0)*G19 -> 0 | V19: =IF(SUM(E19:G19)>0,CEILING(IF(SUM(E19:G19)>0,CEILING(((E19+20)*2+(F19+20)*2)*G19,2950)/6000," "),0.5)," ")
B20: 14 | I20: =((E20+20)*2+(F20+20)*2)*G20 -> 0 | K20: =G20 -> 0 | T20: =IF(SUM(N20:S20)>0,COUNTIF(N20:S20,">0"),0) -> 0 | U20: =IF(SUM(N20:S20)>0,COUNTIF(N20:S20,">0"),0)*G20 -> 0 | V20: =IF(SUM(E20:G20)>0,CEILING(IF(SUM(E20:G20)>0,CEILING(((E20+20)*2+(F20+20)*2)*G20,2950)/6000," "),0.5)," ")
B21: 15 | I21: =((E21+20)*2+(F21+20)*2)*G21 -> 0 | K21: =G21 -> 0 | T21: =IF(SUM(N21:S21)>0,COUNTIF(N21:S21,">0"),0) -> 0 | U21: =IF(SUM(N21:S21)>0,COUNTIF(N21:S21,">0"),0)*G21 -> 0 | V21: =IF(SUM(E21:G21)>0,CEILING(IF(SUM(E21:G21)>0,CEILING(((E21+20)*2+(F21+20)*2)*G21,2950)/6000," "),0.5)," ") | X21: ВИД ФАСАДА С ЛИЦЕВОЙ СТОРОНЫ !
B22: 16 | I22: =((E22+20)*2+(F22+20)*2)*G22 -> 0 | K22: =G22 -> 0 | T22: =IF(SUM(N22:S22)>0,COUNTIF(N22:S22,">0"),0) -> 0 | U22: =IF(SUM(N22:S22)>0,COUNTIF(N22:S22,">0"),0)*G22 -> 0 | V22: =IF(SUM(E22:G22)>0,CEILING(IF(SUM(E22:G22)>0,CEILING(((E22+20)*2+(F22+20)*2)*G22,2950)/6000," "),0.5)," ")
B23: 17 | I23: =((E23+20)*2+(F23+20)*2)*G23 -> 0 | K23: =G23 -> 0 | T23: =IF(SUM(N23:S23)>0,COUNTIF(N23:S23,">0"),0) -> 0 | U23: =IF(SUM(N23:S23)>0,COUNTIF(N23:S23,">0"),0)*G23 -> 0 | V23: =IF(SUM(E23:G23)>0,CEILING(IF(SUM(E23:G23)>0,CEILING(((E23+20)*2+(F23+20)*2)*G23,2950)/6000," "),0.5)," ")
B24: 18 | I24: =((E24+20)*2+(F24+20)*2)*G24 -> 0 | K24: =G24 -> 0 | T24: =IF(SUM(N24:S24)>0,COUNTIF(N24:S24,">0"),0) -> 0 | U24: =IF(SUM(N24:S24)>0,COUNTIF(N24:S24,">0"),0)*G24 -> 0 | V24: =IF(SUM(E24:G24)>0,CEILING(IF(SUM(E24:G24)>0,CEILING(((E24+20)*2+(F24+20)*2)*G24,2950)/6000," "),0.5)," ")
B25: 19 | I25: =((E25+20)*2+(F25+20)*2)*G25 -> 0 | K25: =G25 -> 0 | T25: =IF(SUM(N25:S25)>0,COUNTIF(N25:S25,">0"),0) -> 0 | U25: =IF(SUM(N25:S25)>0,COUNTIF(N25:S25,">0"),0)*G25 -> 0 | V25: =IF(SUM(E25:G25)>0,CEILING(IF(SUM(E25:G25)>0,CEILING(((E25+20)*2+(F25+20)*2)*G25,2950)/6000," "),0.5)," ")
B26: 20 | I26: =((E26+20)*2+(F26+20)*2)*G26 -> 0 | K26: =G26 -> 0 | T26: =IF(SUM(N26:S26)>0,COUNTIF(N26:S26,">0"),0) -> 0 | U26: =IF(SUM(N26:S26)>0,COUNTIF(N26:S26,">0"),0)*G26 -> 0 | V26: =IF(SUM(E26:G26)>0,CEILING(IF(SUM(E26:G26)>0,CEILING(((E26+20)*2+(F26+20)*2)*G26,2950)/6000," "),0.5)," ")
B27: 21 | I27: =((E27+20)*2+(F27+20)*2)*G27 -> 0 | K27: =G27 -> 0 | T27: =IF(SUM(N27:S27)>0,COUNTIF(N27:S27,">0"),0) -> 0 | U27: =IF(SUM(N27:S27)>0,COUNTIF(N27:S27,">0"),0)*G27 -> 0 | V27: =IF(SUM(E27:G27)>0,CEILING(IF(SUM(E27:G27)>0,CEILING(((E27+20)*2+(F27+20)*2)*G27,2950)/6000," "),0.5)," ")
B28: 22 | I28: =((E28+20)*2+(F28+20)*2)*G28 -> 0 | K28: =G28 -> 0 | T28: =IF(SUM(N28:S28)>0,COUNTIF(N28:S28,">0"),0) -> 0 | U28: =IF(SUM(N28:S28)>0,COUNTIF(N28:S28,">0"),0)*G28 -> 0 | V28: =IF(SUM(E28:G28)>0,CEILING(IF(SUM(E28:G28)>0,CEILING(((E28+20)*2+(F28+20)*2)*G28,2950)/6000," "),0.5)," ")
B29: 23 | I29: =((E29+20)*2+(F29+20)*2)*G29 -> 0 | K29: =G29 -> 0 | T29: =IF(SUM(N29:S29)>0,COUNTIF(N29:S29,">0"),0) -> 0 | U29: =IF(SUM(N29:S29)>0,COUNTIF(N29:S29,">0"),0)*G29 -> 0 | V29: =IF(SUM(E29:G29)>0,CEILING(IF(SUM(E29:G29)>0,CEILING(((E29+20)*2+(F29+20)*2)*G29,2950)/6000," "),0.5)," ")
B30: 24 | I30: =((E30+20)*2+(F30+20)*2)*G30 -> 0 | K30: =G30 -> 0 | T30: =IF(SUM(N30:S30)>0,COUNTIF(N30:S30,">0"),0) -> 0 | U30: =IF(SUM(N30:S30)>0,COUNTIF(N30:S30,">0"),0)*G30 -> 0 | V30: =IF(SUM(E30:G30)>0,CEILING(IF(SUM(E30:G30)>0,CEILING(((E30+20)*2+(F30+20)*2)*G30,2950)/6000," "),0.5)," ")
B31: 25 | I31: =((E31+20)*2+(F31+20)*2)*G31 -> 0 | K31: =G31 -> 0 | T31: =IF(SUM(N31:S31)>0,COUNTIF(N31:S31,">0"),0) -> 0 | U31: =IF(SUM(N31:S31)>0,COUNTIF(N31:S31,">0"),0)*G31 -> 0 | V31: =IF(SUM(E31:G31)>0,CEILING(IF(SUM(E31:G31)>0,CEILING(((E31+20)*2+(F31+20)*2)*G31,2950)/6000," "),0.5)," ")
B32: 26 | I32: =((E32+20)*2+(F32+20)*2)*G32 -> 0 | K32: =G32 -> 0 | T32: =IF(SUM(N32:S32)>0,COUNTIF(N32:S32,">0"),0) -> 0 | U32: =IF(SUM(N32:S32)>0,COUNTIF(N32:S32,">0"),0)*G32 -> 0 | V32: =IF(SUM(E32:G32)>0,CEILING(IF(SUM(E32:G32)>0,CEILING(((E32+20)*2+(F32+20)*2)*G32,2950)/6000," "),0.5)," ")
B33: 27 | I33: =((E33+20)*2+(F33+20)*2)*G33 -> 0 | K33: =G33 -> 0 | T33: =IF(SUM(N33:S33)>0,COUNTIF(N33:S33,">0"),0) -> 0 | U33: =IF(SUM(N33:S33)>0,COUNTIF(N33:S33,">0"),0)*G33 -> 0 | V33: =IF(SUM(E33:G33)>0,CEILING(IF(SUM(E33:G33)>0,CEILING(((E33+20)*2+(F33+20)*2)*G33,2950)/6000," "),0.5)," ")
... B35: 29 | I35: =((E35+20)*2+(F35+20)*2)*G35 -> 0 | K35: =G35 -> 0 | T35: =IF(SUM(N35:S35)>0,COUNTIF(N35:S35,">0"),0) -> 0 | U35: =IF(SUM(N35:S35)>0,COUNTIF(N35:S35,">0"),0)*G35 -> 0 | V35: =IF(SUM(E35:G35)>0,CEILING(IF(SUM(E35:G35)>0,CEILING(((E35+20)*2+(F35+20)*2)*G35,2950)/6000," "),0.5)," ")
B36: 30 | I36: =((E36+20)*2+(F36+20)*2)*G36 -> 0 | K36: =G36 -> 0 | T36: =IF(SUM(N36:S36)>0,COUNTIF(N36:S36,">0"),0) -> 0 | U36: =IF(SUM(N36:S36)>0,COUNTIF(N36:S36,">0"),0)*G36 -> 0
G37: =SUM(G7:G36) -> 0 | H37: =SUBTOTAL(9,H7:H36) -> 0 | I37: =SUBTOTAL(9,I7:I36) -> 0 | K37: =SUBTOTAL(9,K7:K36) -> 0 | U37: =SUM(U7:U36) -> 0
C38: ВНИМАНИЕ !
C39: Рамки одного размера Одинаковые по присадке, заполняются в таблицу ОДНОЙ строкой (общее кол-во рамок)
C41: Рамки одного размера РАЗНЫЕ по присадке, заполняются в таблицу в РАЗНЫЕ строки, группируя рамки по присадке
C43: Все рамки упаковываются в порилекс по умолчанию
J45: Рекомендованные размеры производителя
...

Sheet Прайс на услуги
B2: СЕРИЯ MZ | O2: Прайс
B3: Профиль фасадный основной MZ01 | H3: Профиль фасадный основной MZ013 | O3: Наименование услуги | Q3: Профиль | R3: Цена ОПТ./шт | S3: Цена РОЗ./шт
O4: Распил фасадного профиля под сборку алюминиевой рамки | Q4: MF30/31 | R4: 1400 | S4: 1800
Q5: MZ01 | R5: 1200 | S5: 1500
Q6: MZ13/13-01 | R6: 1200 | S6: 1500
O7: Фрезеровка под петлю профиля | Q7: MF30/31 | R7: 250 | S7: 300
O10: Фрезеровка под петлю профиля | Q10: MZ01 | R10: 200 | S10: 250
O13: Фрезеровка под петлю профиля | Q13: MZ13/13-01 | R13: 150 | S13: 200
E15: Профиль-ручка MZ13-01 ручка в центре профиля
O16: Упаковка в ПОРИЛЕКС | Q16: Бесплатно по умолчанию
O19: Дополнительная упаковка в гофрокартон | Q19: Цена по согласованию
B32: СЕРИЯ MF
B33: Профиль фасадный основной MF30 | H33: Профиль-ручка MF 31 ручка 250 мм в центре профиля

Sheet Отчет
B1: Материалы и фурнитура
B5: Наименование | C5: Характеристика | H5: Кол-во, шт
B6: MF30 | C6: А00 Серебро | E6: 1 | F6: =AND(IF($B$6='Бланк для заполнения'!C7,'Бланк для заполнения'!I7),IF($C$6='Бланк для заполнения'!D7,'Бланк для заполнения'!I7)) -> FALSE | G6: =IF(F6=TRUE,'Бланк для заполнения'!I7,0) -> 0 | H6: =CEILING((CEILING((SUM(G6:G35)),2950)/6000),0.5) -> 0
E7: 2 | F7: =AND(IF($B$6='Бланк для заполнения'!C8,'Бланк для заполнения'!I8),IF($C$6='Бланк для заполнения'!D8,'Бланк для заполнения'!I8)) -> FALSE | G7: =IF(F7=TRUE,'Бланк для заполнения'!I8,0) -> 0
E8: 3 | F8: =AND(IF($B$6='Бланк для заполнения'!C9,'Бланк для заполнения'!I9),IF($C$6='Бланк для заполнения'!D9,'Бланк для заполнения'!I9)) -> FALSE | G8: =IF(F8=TRUE,'Бланк для заполнения'!I9,0) -> 0
E9: 4 | F9: =AND(IF($B$6='Бланк для заполнения'!C10,'Бланк для заполнения'!I10),IF($C$6='Бланк для заполнения'!D10,'Бланк для заполнения'!I10)) -> FALSE | G9: =IF(F9=TRUE,'Бланк для заполнения'!I10,0) -> 0
E10: 5 | F10: =AND(IF($B$6='Бланк для заполнения'!C11,'Бланк для заполнения'!I11),IF($C$6='Бланк для заполнения'!D11,'Бланк для заполнения'!I11)) -> FALSE | G10: =IF(F10=TRUE,'Бланк для заполнения'!I11,0) -> 0
E11: 6 | F11: =AND(IF($B$6='Бланк для заполнения'!C12,'Бланк для заполнения'!I12),IF($C$6='Бланк для заполнения'!D12,'Бланк для заполнения'!I12)) -> FALSE | G11: =IF(F11=TRUE,'Бланк для заполнения'!I12,0) -> 0
E12: 7 | F12: =AND(IF($B$6='Бланк для заполнения'!C13,'Бланк для заполнения'!I13),IF($C$6='Бланк для заполнения'!D13,'Бланк для заполнения'!I13)) -> FALSE | G12: =IF(F12=TRUE,'Бланк для заполнения'!I13,0) -> 0
E13: 8 | F13: =AND(IF($B$6='Бланк для заполнения'!C14,'Бланк для заполнения'!I14),IF($C$6='Бланк для заполнения'!D14,'Бланк для заполнения'!I14)) -> FALSE | G13: =IF(F13=TRUE,'Бланк для заполнения'!I14,0) -> 0
E14: 9 | F14: =AND(IF($B$6='Бланк для заполнения'!C15,'Бланк для заполнения'!I15),IF($C$6='Бланк для заполнения'!D15,'Бланк для заполнения'!I15)) -> FALSE | G14: =IF(F14=TRUE,'Бланк для заполнения'!I15,0) -> 0
E15: 10 | F15: =AND(IF($B$6='Бланк для заполнения'!C16,'Бланк для заполнения'!I16),IF($C$6='Бланк для заполнения'!D16,'Бланк для заполнения'!I16)) -> FALSE | G15: =IF(F15=TRUE,'Бланк для заполнения'!I16,0) -> 0
E16: 11 | F16: =AND(IF($B$6='Бланк для заполнения'!C17,'Бланк для заполнения'!I17),IF($C$6='Бланк для заполнения'!D17,'Бланк для заполнения'!I17)) -> FALSE | G16: =IF(F16=TRUE,'Бланк для заполнения'!I17,0) -> 0
E17: 12 | F17: =AND(IF($B$6='Бланк для заполнения'!C18,'Бланк для заполнения'!I18),IF($C$6='Бланк для заполнения'!D18,'Бланк для заполнения'!I18)) -> FALSE | G17: =IF(F17=TRUE,'Бланк для заполнения'!I18,0) -> 0
E18: 13 | F18: =AND(IF($B$6='Бланк для заполнения'!C19,'Бланк для заполнения'!I19),IF($C$6='Бланк для заполнения'!D19,'Бланк для заполнения'!I19)) -> FALSE | G18: =IF(F18=TRUE,'Бланк для заполнения'!I19,0) -> 0
... E35: 30 | F35: =AND(IF($B$6='Бланк для заполнения'!C36,'Бланк для заполнения'!I36),IF($C$6='Бланк для заполнения'!D36,'Бланк для заполнения'!I36)) -> FALSE | G35: =IF(F35=TRUE,'Бланк для заполнения'!I36,0) -> 0
B36: MF30 | C36: А04 Инокс | E36: 1 | F36: =AND(IF($B$36='Бланк для заполнения'!C7,'Бланк для заполнения'!I7),IF($C$36='Бланк для заполнения'!D7,'Бланк для заполнения'!I7)) -> FALSE | G36: =IF(F36=TRUE,'Бланк для заполнения'!I7,0) -> 0 | H36: =CEILING((CEILING((SUM(G36:G65)),2950)/6000),0.5) -> 0
E37: 2 | F37: =AND(IF($B$36='Бланк для заполнения'!C8,'Бланк для заполнения'!I8),IF($C$36='Бланк для заполнения'!D8,'Бланк для заполнения'!I8)) -> FALSE | G37: =IF(F37=TRUE,'Бланк для заполнения'!I8,0) -> 0
E38: 3 | F38: =AND(IF($B$36='Бланк для заполнения'!C9,'Бланк для заполнения'!I9),IF($C$36='Бланк для заполнения'!D9,'Бланк для заполнения'!I9)) -> FALSE | G38: =IF(F38=TRUE,'Бланк для заполнения'!I9,0) -> 0
E39: 4 | F39: =AND(IF($B$36='Бланк для заполнения'!C10,'Бланк для заполнения'!I10),IF($C$36='Бланк для заполнения'!D10,'Бланк для заполнения'!I10)) -> FALSE | G39: =IF(F39=TRUE,'Бланк для заполнения'!I10,0) -> 0
E40: 5 | F40: =AND(IF($B$36='Бланк для заполнения'!C11,'Бланк для заполнения'!I11),IF($C$36='Бланк для заполнения'!D11,'Бланк для заполнения'!I11)) -> FALSE | G40: =IF(F40=TRUE,'Бланк для заполнения'!I11,0) -> 0
E41: 6 | F41: =AND(IF($B$36='Бланк для заполнения'!C12,'Бланк для заполнения'!I12),IF($C$36='Бланк для заполнения'!D12,'Бланк для заполнения'!I12)) -> FALSE | G41: =IF(F41=TRUE,'Бланк для заполнения'!I12,0) -> 0
E42: 7 | F42: =AND(IF($B$36='Бланк для заполнения'!C13,'Бланк для заполнения'!I13),IF($C$36='Бланк для заполнения'!D13,'Бланк для заполнения'!I13)) -> FALSE | G42: =IF(F42=TRUE,'Бланк для заполнения'!I13,0) -> 0
E43: 8 | F43: =AND(IF($B$36='Бланк для заполнения'!C14,'Бланк для заполнения'!I14),IF($C$36='Бланк для заполнения'!D14,'Бланк для заполнения'!I14)) -> FALSE | G43: =IF(F43=TRUE,'Бланк для заполнения'!I14,0) -> 0
E44: 9 | F44: =AND(IF($B$36='Бланк для заполнения'!C15,'Бланк для заполнения'!I15),IF($C$36='Бланк для заполнения'!D15,'Бланк для заполнения'!I15)) -> FALSE | G44: =IF(F44=TRUE,'Бланк для заполнения'!I15,0) -> 0
E45: 10 | F45: =AND(IF($B$36='Бланк для заполнения'!C16,'Бланк для заполнения'!I16),IF($C$36='Бланк для заполнения'!D16,'Бланк для заполнения'!I16)) -> FALSE | G45: =IF(F45=TRUE,'Бланк для заполнения'!I16,0) -> 0
E46: 11 | F46: =AND(IF($B$36='Бланк для заполнения'!C17,'Бланк для заполнения'!I17),IF($C$36='Бланк для заполнения'!D17,'Бланк для заполнения'!I17)) -> FALSE | G46: =IF(F46=TRUE,'Бланк для заполнения'!I17,0) -> 0
E47: 12 | F47: =AND(IF($B$36='Бланк для заполнения'!C18,'Бланк для заполнения'!I18),IF($C$36='Бланк для заполнения'!D18,'Бланк для заполнения'!I18)) -> FALSE | G47: =IF(F47=TRUE,'Бланк для заполнения'!I18,0) -> 0
E48: 13 | F48: =AND(IF($B$36='Бланк для заполнения'!C19,'Бланк для заполнения'!I19),IF($C$36='Бланк для заполнения'!D19,'Бланк для заполнения'!I19)) -> FALSE | G48: =IF(F48=TRUE,'Бланк для заполнения'!I19,0) -> 0
... E65: 30 | F65: =AND(IF($B$36='Бланк для заполнения'!C36,'Бланк для заполнения'!I36),IF($C$36='Бланк для заполнения'!D36,'Бланк для заполнения'!I36)) -> FALSE | G65: =IF(F65=TRUE,'Бланк для заполнения'!I36,0) -> 0
B66: MF30 | C66: А18 Титан | E66: 1 | F66: =AND(IF($B$66='Бланк для заполнения'!C7,'Бланк для заполнения'!I7),IF($C$66='Бланк для заполнения'!D7,'Бланк для заполнения'!I7)) -> FALSE | G66: =IF(F66=TRUE,'Бланк для заполнения'!I7,0) -> 0 | H66: =CEILING((CEILING((SUM(G66:G95)),2950)/6000),0.5) -> 0
E67: 2 | F67: =AND(IF($B$66='Бланк для заполнения'!C8,'Бланк для заполнения'!I8),IF($C$66='Бланк для заполнения'!D8,'Бланк для заполнения'!I8)) -> FALSE | G67: =IF(F67=TRUE,'Бланк для заполнения'!I8,0) -> 0
E68: 3 | F68: =AND(IF($B$66='Бланк для заполнения'!C9,'Бланк для заполнения'!I9),IF($C$66='Бланк для заполнения'!D9,'Бланк для заполнения'!I9)) -> FALSE | G68: =IF(F68=TRUE,'Бланк для заполнения'!I9,0) -> 0
E69: 4 | F69: =AND(IF($B$66='Бланк для заполнения'!C10,'Бланк для заполнения'!I10),IF($C$66='Бланк для заполнения'!D10,'Бланк для заполнения'!I10)) -> FALSE | G69: =IF(F69=TRUE,'Бланк для заполнения'!I10,0) -> 0
E70: 5 | F70: =AND(IF($B$66='Бланк для заполнения'!C11,'Бланк для заполнения'!I11),IF($C$66='Бланк для заполнения'!D11,'Бланк для заполнения'!I11)) -> FALSE | G70: =IF(F70=TRUE,'Бланк для заполнения'!I11,0) -> 0
E71: 6 | F71: =AND(IF($B$66='Бланк для заполнения'!C12,'Бланк для заполнения'!I12),IF($C$66='Бланк для заполнения'!D12,'Бланк для заполнения'!I12)) -> FALSE | G71: =IF(F71=TRUE,'Бланк для заполнения'!I12,0) -> 0
E72: 7 | F72: =AND(IF($B$66='Бланк для заполнения'!C13,'Бланк для заполнения'!I13),IF($C$66='Бланк для заполнения'!D13,'Бланк для заполнения'!I13)) -> FALSE | G72: =IF(F72=TRUE,'Бланк для заполнения'!I13,0) -> 0
E73: 8 | F73: =AND(IF($B$66='Бланк для заполнения'!C14,'Бланк для заполнения'!I14),IF($C$66='Бланк для заполнения'!D14,'Бланк для заполнения'!I14)) -> FALSE | G73: =IF(F73=TRUE,'Бланк для заполнения'!I14,0) -> 0
E74: 9 | F74: =AND(IF($B$66='Бланк для заполнения'!C15,'Бланк для заполнения'!I15),IF($C$66='Бланк для заполнения'!D15,'Бланк для заполнения'!I15)) -> FALSE | G74: =IF(F74=TRUE,'Бланк для заполнения'!I15,0) -> 0
E75: 10 | F75: =AND(IF($B$66='Бланк для заполнения'!C16,'Бланк для заполнения'!I16),IF($C$66='Бланк для заполнения'!D16,'Бланк для заполнения'!I16)) -> FALSE | G75: =IF(F75=TRUE,'Бланк для заполнения'!I16,0) -> 0
...

Sheet Лист1
A1: Арт. | B1: Вид профиля | C1: Арт. | D1: Цвет профиля | F1: Петли | G1: Доводчик | H1: Уплотнитель
A2: 2 | B2: MF30 | C2: 2 | D2: А00 Серебро | F2: Hettich/Blum | G2: Левое | H2: Светлый | M2: Профиль тип 1
A3: 3 | B3: MF31 ручка | C3: 3 | D3: А04 Инокс | F3: SAMET | G3: Правое | H3: Черный
A4: 4 | B4: MZ01 | C4: 4 | D4: А18 Титан | F4: Hettich 8631/8661 | G4: Верхнее | J4: Белый | K4: Хром | L4: Золото | N4: Черный | O4: Венге
A5: 5 | B5: MZ13 | C5: 5 | D5: А26 Черный | G5: Нижнее
A6: 6 | B6: MZ13-01 ручка | C6: 6 | D6: А21 Латунь | M6: Уплотнитель тип 1
D7: А25 Черн.браш
D8: А11 Белый мат | L8: Прозрачный | N8: Черный
M10: Петли тип 1
F12: SAMET Черный | K12: Hettich | O12: SAMET
J14: Хром | L14: Черный | N14: Хром | P14: Черный
M16: Уголок тип 1
M18: Винты

Sheet Анализ
D1: Проверка Ошибок
D3: Характеристика | E3: про1 | F3: про2 | G3: про3 | H3: про4 | I3: Шаблон | J3: Итоги
C4: профиль | D4: Белый | E4: =Отчет!H6 -> 0 | F4: =Отчет!H486 -> 0 | G4: =Отчет!H966 -> 0 | H4: =Отчет!H1446 -> 0 | I4: 1 | J4: =SUBTOTAL(9,E4:H4)/4 -> 0
D34: Черный | E34: =Отчет!H36 -> 0 | F34: =Отчет!H516 -> 0 | G34: =Отчет!H996 -> 0 | H34: =Отчет!H1476 -> 0 | I34: 1 | J34: =SUBTOTAL(9,E34:H34)/4 -> 0
D64: Венге | E64: =Отчет!H66 -> 0 | F64: =Отчет!H546 -> 0 | G64: =Отчет!H1026 -> 0 | H64: =Отчет!H1506 -> 0 | I64: 1 | J64: =SUBTOTAL(9,E64:H64)/4 -> 0
D94: Хром | E94: =Отчет!H96 -> 0 | F94: =Отчет!H576 -> 0 | G94: =Отчет!H1056 -> 0 | H94: =Отчет!H1536 -> 0 | I94: 1 | J94: =SUBTOTAL(9,E94:H94)/4 -> 0
D124: Золото | E124: =Отчет!H126 -> 0 | F124: =Отчет!H606 -> 0 | G124: =Отчет!H1086 -> 0 | H124: =Отчет!H1566 -> 0 | I124: 1 | J124: =SUBTOTAL(9,E124:H124)/4 -> 0
C154: Уплотнитель | D154: Прозрачный | E154: =Отчет!H216 -> 0 | F154: =Отчет!H696 -> 0 | G154: =Отчет!H1176 -> 0 | H154: =Отчет!H1656 -> 0 | I154: 7 | J154: =SUBTOTAL(9,E154:H154)/4 -> 0
D184: Черный | E184: =Отчет!H246 -> 0 | F184: =Отчет!H726 -> 0 | G184: =Отчет!H1206 -> 0 | H184: =Отчет!H1686 -> 0 | I184: 10 | J184: =SUBTOTAL(9,E184:H184)/4 -> 0
C214: Уголок | E214: =Отчет!H276 -> 0 | F214: =Отчет!H756 -> 0 | G214: =Отчет!H1236 -> 0 | H214: =Отчет!H1716 -> 0 | I214: 20 | J214: =SUBTOTAL(9,E214:H214)/4 -> 0
C244: Петли | D244: Hettich Хром с доводчиком | E244: =Отчет!H366 -> 0 | F244: =Отчет!H846 -> 0 | G244: =Отчет!H1326 -> 0 | H244: =Отчет!H1806 -> 0 | I244: 6 | J244: =SUBTOTAL(9,E244:H244)/4 -> 0 | K244: =SUBTOTAL(9,E244:H454) -> #REF!
D274: Hettich Хром | E274: =Отчет!#REF! -> #REF! | F274: =Отчет!#REF! -> #REF! | G274: =Отчет!#REF! -> #REF! | H274: =Отчет!#REF! -> #REF! | I274: 6 | J274: =SUBTOTAL(9,E274:H274)/4 -> #REF!
D304: Hettich Черный с доводчиком | E304: =Отчет!H396 -> 0 | F304: =Отчет!H876 -> 0 | G304: =Отчет!H1356 -> 0 | H304: =Отчет!H1836 -> 0 | I304: 0 | J304: =SUBTOTAL(9,E304:H304)/4 -> 0
D334: Hettich Черный | E334: =Отчет!#REF! -> #REF! | F334: =Отчет!#REF! -> #REF! | G334: =Отчет!#REF! -> #REF! | H334: =Отчет!#REF! -> #REF! | I334: 6 | J334: =SUBTOTAL(9,E334:H334)/4 -> #REF!
D364: SAMET Хром с доводчиком | E364: =Отчет!H426 -> 0 | F364: =Отчет!H906 -> 0 | G364: =Отчет!H1386 -> 0 | H364: =Отчет!H1866 -> 0 | I364: 0 | J364: =SUBTOTAL(9,E364:H364)/4 -> 0
D394: SAMET Хром | E394: =Отчет!#REF! -> #REF! | F394: =Отчет!#REF! -> #REF! | G394: =Отчет!#REF! -> #REF! | H394: =Отчет!#REF! -> #REF! | I394: 6 | J394: =SUBTOTAL(9,E394:H394)/4 -> #REF!
D424: SAMET Черный с доводчиком | E424: =Отчет!H456 -> 0 | F424: =Отчет!H936 -> 0 | G424: =Отчет!H1416 -> 0 | H424: =Отчет!H1896 -> 0 | I424: 0 | J424: =SUBTOTAL(9,E424:H424)/4 -> 0
D454: SAMET Черный | E454: =Отчет!#REF! -> #REF! | F454: =Отчет!#REF! -> #REF! | G454: =Отчет!#REF! -> #REF! | H454: =Отчет!#REF! -> #REF! | I454: 6 | J454: =SUBTOTAL(9,E454:H454)/4 -> #REF!
D463: Данные для проверки (Шаблон)
C466: №п/п | D466: Профиль | E466: Цвет профиля | F466: Размеры Фасада мм | H466: Кол-во рамок | I466: Периметр рамки с отпилом | J466: Уплотнитель | K466: Уголок | L466: Винт | M466: Петли | O466: Присадка отверстий, мм (всегда по стороне А)
F467: Сторона(А) | G467: Сторона(В) | M467: Бренд и цвет | N467: Доводчик | O467: Х1 | P467: Х2 | Q467: Х3 | R467: Х4 | S467: Х5 | T467: Х6
C468: 1 | D468: Профиль 1000.1 | E468: Белый | F468: 1000 | G468: 500 | H468: 1 | I468: =((F468+20)*2+(G468+20)*2)*H468 -> 3080 | J468: Черный | K468: =H468*4 -> 4 | L468: =K468*2 -> 8 | M468: Hettich Хром | N468: нет | O468: 100 | P468: 100 | Q468: 100 | R468: 100 | S468: 100 | T468: 100
C469: 2 | D469: Профиль 1000.1 | E469: Черный | F469: 1000 | G469: 500 | H469: 1 | I469: =((F469+20)*2+(G469+20)*2)*H469 -> 3080 | J469: Черный | K469: =H469*4 -> 4 | L469: =K469*2 -> 8 | M469: Hettich Черный | N469: нет | O469: 100 | P469: 100 | Q469: 100 | R469: 100 | S469: 100 | T469: 100
C470: 3 | D470: Профиль 1000.1 | E470: Венге | F470: 1000 | G470: 500 | H470: 1 | I470: =((F470+20)*2+(G470+20)*2)*H470 -> 3080 | J470: Черный | K470: =H470*4 -> 4 | L470: =K470*2 -> 8 | M470: SAMET Хром | N470: нет | O470: 100 | P470: 100 | Q470: 100 | R470: 100 | S470: 100 | T470: 100
C471: 4 | D471: Профиль 1000.1 | E471: Хром | F471: 1000 | G471: 500 | H471: 1 | I471: =((F471+20)*2+(G471+20)*2)*H471 -> 3080 | J471: Прозрачный | K471: =H471*4 -> 4 | L471: =K471*2 -> 8 | M471: SAMET Черный | N471: нет | O471: 100 | P471: 100 | Q471: 100 | R471: 100 | S471: 100 | T471: 100
C472: 5 | D472: Профиль 1000.1 | E472: Золото | F472: 1000 | G472: 500 | H472: 1 | I472: =((F472+20)*2+(G472+20)*2)*H472 -> 3080 | J472: Прозрачный | K472: =H472*4 -> 4 | L472: =K472*2 -> 8 | M472: Hettich Хром | N472: Да | O472: 100 | P472: 100 | Q472: 100 | R472: 100 | S472: 100 | T472: 100
C473: 6 | D473: Профиль 2000.2 | E473: Белый | F473: 1000 | G473: 500 | H473: 1 | I473: =((F473+20)*2+(G473+20)*2)*H473 -> 3080 | J473: Черный | K473: =H473*4 -> 4 | L473: =K473*2 -> 8 | M473: Hettich Хром | N473: нет | O473: 100 | P473: 100 | Q473: 100 | R473: 100 | S473: 100 | T473: 100
C474: 7 | D474: Профиль 2000.2 | E474: Черный | F474: 1000 | G474: 500 | H474: 1 | I474: =((F474+20)*2+(G474+20)*2)*H474 -> 3080 | J474: Черный | K474: =H474*4 -> 4 | L474: =K474*2 -> 8 | M474: Hettich Черный | N474: нет | O474: 100 | P474: 100 | Q474: 100 | R474: 100 | S474: 100 | T474: 100
C475: 8 | D475: Профиль 2000.2 | E475: Венге | F475: 1000 | G475: 500 | H475: 1 | I475: =((F475+20)*2+(G475+20)*2)*H475 -> 3080 | J475: Черный | K475: =H475*4 -> 4 | L475: =K475*2 -> 8 | M475: SAMET Хром | N475: нет | O475: 100 | P475: 100 | Q475: 100 | R475: 100 | S475: 100 | T475: 100
C476: 9 | D476: Профиль 2000.2 | E476: Хром | F476: 1000 | G476: 500 | H476: 1 | I476: =((F476+20)*2+(G476+20)*2)*H476 -> 3080 | J476: Прозрачный | K476: =H476*4 -> 4 | L476: =K476*2 -> 8 | M476: SAMET Черный | N476: нет | O476: 100 | P476: 100 | Q476: 100 | R476: 100 | S476: 100 | T476: 100
C477: 10 | D477: Профиль 2000.2 | E477: Золото | F477: 1000 | G477: 500 | H477: 1 | I477: =((F477+20)*2+(G477+20)*2)*H477 -> 3080 | J477: Прозрачный | K477: =H477*4 -> 4 | L477: =K477*2 -> 8 | M477: Hettich Хром | N477: Да | O477: 100 | P477: 100 | Q477: 100 | R477: 100 | S477: 100 | T477: 100
C478: 11 | D478: Профиль 3000.3 | E478: Белый | F478: 1000 | G478: 500 | H478: 1 | I478: =((F478+20)*2+(G478+20)*2)*H478 -> 3080 | J478: Черный | K478: =H478*4 -> 4 | L478: =K478*2 -> 8 | M478: Hettich Хром | N478: нет | O478: 100 | P478: 100 | Q478: 100 | R478: 100 | S478: 100 | T478: 100
C479: 12 | D479: Профиль 3000.3 | E479: Черный | F479: 1000 | G479: 500 | H479: 1 | I479: =((F479+20)*2+(G479+20)*2)*H479 -> 3080 | J479: Черный | K479: =H479*4 -> 4 | L479: =K479*2 -> 8 | M479: Hettich Черный | N479: нет | O479: 100 | P479: 100 | Q479: 100 | R479: 100 | S479: 100 | T479: 100
... C487: 20 | D487: Профиль 4000.4 | E487: Золото | F487: 1000 | G487: 500 | H487: 1 | I487: =((F487+20)*2+(G487+20)*2)*H487 -> 3080 | J487: Прозрачный | K487: =H487*4 -> 4 | L487: =K487*2 -> 8 | M487: Hettich Хром | N487: Да | O487: 100 | P487: 100 | Q487: 100 | R487: 100 | S487: 100 | T487: 100
B2003: Автор:Лысов Данил Андреевич

Sheet Расчеты
A1: Расчет присадки | P1: Расчет остатков от MZ13-01 или MF31
A2: Открывание | B2: х1 | C2: х2 | D2: х3 | E2: х4 | F2: х5 | G2: х6 | P2: Габарит фасада
A3: Левое | B3: =IF(F8>0,F8,0) -> 0 | C3: =IF(B15>0,$A$14-B15,0) -> 0 | D3: =IF(C16>0,$A$14-C16,0) -> 0 | E3: =IF(D17>0,$A$14-D17,0) -> 0 | F3: =IF(E18>0,$A$14-E18,0) -> 0 | G3: =IF(F19>0,$A$14-F19,0) -> 0 | P3: Размер от края рамки до ручки (У)
A4: Правое | B4: =IF(K19>0,K19,0) -> 0 | C4: =IF(L18>0,K19,0) -> 0 | D4: =IF(M17>0,M17,0) -> 0 | E4: =IF(N16>0,N16,0) -> 0 | F4: =IF(O15>0,O15,0) -> 0 | G4: =IF(K8>0,$A$14-K8,0) -> 0 | P4: Остаток 1 | Q4: =IF(Q3>0,1300-Q3,0) -> 0
P5: Остаток 2 | Q5: =IF((Q2+R2+Q3)>0,1300-($Q$2-Q3-250),0) -> 0
F6: ВИД ФАСАДА С ЛИЦЕВОЙ СТОРОНЫ !

Sheet Расчет ручки
D2: MZ13-01 ручка | F2: MF31 ручка
C3: Расчет остатков от MZ13-01 или MF31
A5: №п/п | C5: Профиль | D5: Цвет профиля | E5: Кол-во | F5: Габарит фасада | H5: Размер от края рамки до ручки (У) | I5: Остаток 1 | J5: Остаток 2 | K5: Эскиз
C6: =IF(B7=TRUE,'Бланк для заполнения'!C7,0) -> 0 | D6: =IF(B7=TRUE,'Бланк для заполнения'!D7,0) -> 0
A7: 1 | B7: =OR($D$2='Бланк для заполнения'!C7,'Расчет ручки'!$F$2='Бланк для заполнения'!C7) -> FALSE | C7: =IF(B7=TRUE,'Бланк для заполнения'!C7,0) -> 0 | D7: =IF(B7=TRUE,'Бланк для заполнения'!D7,0) -> 0 | E7: =IF(B7=TRUE,'Бланк для заполнения'!G7,0) -> 0 | F7: =IF(B7=TRUE,'Бланк для заполнения'!E7,0) -> 0 | G7: =IF(B7=TRUE,'Бланк для заполнения'!F7,0) -> 0 | H7: =IF(B7=TRUE,'Бланк для заполнения'!H7,0) -> 0 | I7: =IF(H7>0,1300-H7,0) -> 0 | J7: =IF((F7+G7+H7)>0,1300-(F7-H7-250),0) -> 0 | N7: =H7 -> 0 | O7: 250
C8: =IF(B7=TRUE,'Бланк для заполнения'!C7,0) -> 0 | D8: =IF(B7=TRUE,'Бланк для заполнения'!D7,0) -> 0 | L8: =I7-M8 -> 0 | M8: =IF(I7>G7,G7,0) -> 0 | N8: =F7 -> 0 | Q8: =IF(J7>G7,G7,0) -> 0 | R8: =J7-Q8 -> 0
C9: =IF(B10=TRUE,'Бланк для заполнения'!C8,0) -> 0 | D9: =IF(B10=TRUE,'Бланк для заполнения'!D8,0) -> 0
A10: 2 | B10: =OR($D$2='Бланк для заполнения'!C8,'Расчет ручки'!$F$2='Бланк для заполнения'!C8) -> FALSE | C10: =IF(B10=TRUE,'Бланк для заполнения'!C8,0) -> 0 | D10: =IF(B10=TRUE,'Бланк для заполнения'!D8,0) -> 0 | E10: =IF(B10=TRUE,'Бланк для заполнения'!G8,0) -> 0 | F10: =IF(B10=TRUE,'Бланк для заполнения'!E8,0) -> 0 | G10: =IF(B10=TRUE,'Бланк для заполнения'!F8,0) -> 0 | H10: =IF(B10=TRUE,'Бланк для заполнения'!H8,0) -> 0 | I10: =IF(H10>0,1300-H10,0) -> 0 | J10: =IF((F10+G10+H10)>0,1300-(F10-H10-250),0) -> 0 | N10: =H10 -> 0 | O10: 250
C11: =IF(B10=TRUE,'Бланк для заполнения'!C8,0) -> 0 | D11: =IF(B10=TRUE,'Бланк для заполнения'!D8,0) -> 0 | L11: =I10-M11 -> 0 | M11: =IF(I10>G10,G10,0) -> 0 | N11: =F10 -> 0 | Q11: =IF(J10>G10,G10,0) -> 0 | R11: =J10-Q11 -> 0
C12: =IF(B13=TRUE,'Бланк для заполнения'!C9,0) -> 0 | D12: =IF(B13=TRUE,'Бланк для заполнения'!D9,0) -> 0
A13: 3 | B13: =OR($D$2='Бланк для заполнения'!C9,'Расчет ручки'!$F$2='Бланк для заполнения'!C9) -> FALSE | C13: =IF(B13=TRUE,'Бланк для заполнения'!C9,0) -> 0 | D13: =IF(B13=TRUE,'Бланк для заполнения'!D9,0) -> 0 | E13: =IF(B13=TRUE,'Бланк для заполнения'!G9,0) -> 0 | F13: =IF(B13=TRUE,'Бланк для заполнения'!E9,0) -> 0 | G13: =IF(B13=TRUE,'Бланк для заполнения'!F9,0) -> 0 | H13: =IF(B13=TRUE,'Бланк для заполнения'!H9,0) -> 0 | I13: =IF(H13>0,1300-H13,0) -> 0 | J13: =IF((F13+G13+H13)>0,1300-(F13-H13-250),0) -> 0 | N13: =H13 -> 0 | O13: 250
C14: =IF(B13=TRUE,'Бланк для заполнения'!C9,0) -> 0 | D14: =IF(B13=TRUE,'Бланк для заполнения'!D9,0) -> 0 | L14: =I13-M14 -> 0 | M14: =IF(I13>G13,G13,0) -> 0 | N14: =F13 -> 0 | Q14: =IF(J13>G13,G13,0) -> 0 | R14: =J13-Q14 -> 0
C15: =IF(B16=TRUE,'Бланк для заполнения'!C10,0) -> 0 | D15: =IF(B16=TRUE,'Бланк для заполнения'!D10,0) -> 0
A16: 4 | B16: =OR($D$2='Бланк для заполнения'!C10,'Расчет ручки'!$F$2='Бланк для заполнения'!C10) -> FALSE | C16: =IF(B16=TRUE,'Бланк для заполнения'!C10,0) -> 0 | D16: =IF(B16=TRUE,'Бланк для заполнения'!D10,0) -> 0 | E16: =IF(B16=TRUE,'Бланк для заполнения'!G10,0) -> 0 | F16: =IF(B16=TRUE,'Бланк для заполнения'!E10,0) -> 0 | G16: =IF(B16=TRUE,'Бланк для заполнения'!F10,0) -> 0 | H16: =IF(B16=TRUE,'Бланк для заполнения'!H10,0) -> 0 | I16: =IF(H16>0,1300-H16,0) -> 0 | J16: =IF((F16+G16+H16)>0,1300-(F16-H16-250),0) -> 0 | N16: =H16 -> 0 | O16: 250
C17: =IF(B16=TRUE,'Бланк для заполнения'!C10,0) -> 0 | D17: =IF(B16=TRUE,'Бланк для заполнения'!D10,0) -> 0 | L17: =I16-M17 -> 0 | M17: =IF(I16>G16,G16,0) -> 0 | N17: =F16 -> 0 | Q17: =IF(J16>G16,G16,0) -> 0 | R17: =J16-Q17 -> 0
C18: =IF(B19=TRUE,'Бланк для заполнения'!C11,0) -> 0 | D18: =IF(B19=TRUE,'Бланк для заполнения'!D11,0) -> 0
A19: 5 | B19: =OR($D$2='Бланк для заполнения'!C11,'Расчет ручки'!$F$2='Бланк для заполнения'!C11) -> FALSE | C19: =IF(B19=TRUE,'Бланк для заполнения'!C11,0) -> 0 | D19: =IF(B19=TRUE,'Бланк для заполнения'!D11,0) -> 0 | E19: =IF(B19=TRUE,'Бланк для заполнения'!G11,0) -> 0 | F19: =IF(B19=TRUE,'Бланк для заполнения'!E11,0) -> 0 | G19: =IF(B19=TRUE,'Бланк для заполнения'!F11,0) -> 0 | H19: =IF(B19=TRUE,'Бланк для заполнения'!H11,0) -> 0 | I19: =IF(H19>0,1300-H19,0) -> 0 | J19: =IF((F19+G19+H19)>0,1300-(F19-H19-250),0) -> 0 | N19: =H19 -> 0 | O19: 250
C20: =IF(B19=TRUE,'Бланк для заполнения'!C11,0) -> 0 | D20: =IF(B19=TRUE,'Бланк для заполнения'!D11,0) -> 0 | L20: =I19-M20 -> 0 | M20: =IF(I19>G19,G19,0) -> 0 | N20: =F19 -> 0 | Q20: =IF(J19>G19,G19,0) -> 0 | R20: =J19-Q20 -> 0
C21: =IF(B22=TRUE,'Бланк для заполнения'!C12,0) -> 0 | D21: =IF(B22=TRUE,'Бланк для заполнения'!D12,0) -> 0
A22: 6 | B22: =OR($D$2='Бланк для заполнения'!C12,'Расчет ручки'!$F$2='Бланк для заполнения'!C12) -> FALSE | C22: =IF(B22=TRUE,'Бланк для заполнения'!C12,0) -> 0 | D22: =IF(B22=TRUE,'Бланк для заполнения'!D12,0) -> 0 | E22: =IF(B22=TRUE,'Бланк для заполнения'!G12,0) -> 0 | F22: =IF(B22=TRUE,'Бланк для заполнения'!E12,0) -> 0 | G22: =IF(B22=TRUE,'Бланк для заполнения'!F12,0) -> 0 | H22: =IF(B22=TRUE,'Бланк для заполнения'!H12,0) -> 0 | I22: =IF(H22>0,1300-H22,0) -> 0 | J22: =IF((F22+G22+H22)>0,1300-(F22-H22-250),0) -> 0 | N22: =H22 -> 0 | O22: 250
C23: =IF(B22=TRUE,'Бланк для заполнения'!C12,0) -> 0 | D23: =IF(B22=TRUE,'Бланк для заполнения'!D12,0) -> 0 | L23: =I22-M23 -> 0 | M23: =IF(I22>G22,G22,0) -> 0 | N23: =F22 -> 0 | Q23: =IF(J22>G22,G22,0) -> 0 | R23: =J22-Q23 -> 0
C24: =IF(B25=TRUE,'Бланк для заполнения'!C13,0) -> 0 | D24: =IF(B25=TRUE,'Бланк для заполнения'!D13,0) -> 0
A25: 7 | B25: =OR($D$2='Бланк для заполнения'!C13,'Расчет ручки'!$F$2='Бланк для заполнения'!C13) -> FALSE | C25: =IF(B25=TRUE,'Бланк для заполнения'!C13,0) -> 0 | D25: =IF(B25=TRUE,'Бланк для заполнения'!D13,0) -> 0 | E25: =IF(B25=TRUE,'Бланк для заполнения'!G13,0) -> 0 | F25: =IF(B25=TRUE,'Бланк для заполнения'!E13,0) -> 0 | G25: =IF(B25=TRUE,'Бланк для заполнения'!F13,0) -> 0 | H25: =IF(B25=TRUE,'Бланк для заполнения'!H13,0) -> 0 | I25: =IF(H25>0,1300-H25,0) -> 0 | J25: =IF((F25+G25+H25)>0,1300-(F25-H25-250),0) -> 0 | N25: =H25 -> 0 | O25: 250
C26: =IF(B25=TRUE,'Бланк для заполнения'!C13,0) -> 0 | D26: =IF(B25=TRUE,'Бланк для заполнения'!D13,0) -> 0 | L26: =I25-M26 -> 0 | M26: =IF(I25>G25,G25,0) -> 0 | N26: =F25 -> 0 | Q26: =IF(J25>G25,G25,0) -> 0 | R26: =J25-Q26 -> 0
C27: =IF(B28=TRUE,'Бланк для заполнения'!C14,0) -> 0 | D27: =IF(B28=TRUE,'Бланк для заполнения'!D14,0) -> 0
A28: 8 | B28: =OR($D$2='Бланк для заполнения'!C14,'Расчет ручки'!$F$2='Бланк для заполнения'!C14) -> FALSE | C28: =IF(B28=TRUE,'Бланк для заполнения'!C14,0) -> 0 | D28: =IF(B28=TRUE,'Бланк для заполнения'!D14,0) -> 0 | E28: =IF(B28=TRUE,'Бланк для заполнения'!G14,0) -> 0 | F28: =IF(B28=TRUE,'Бланк для заполнения'!E14,0) -> 0 | G28: =IF(B28=TRUE,'Бланк для заполнения'!F14,0) -> 0 | H28: =IF(B28=TRUE,'Бланк для заполнения'!H14,0) -> 0 | I28: =IF(H28>0,1300-H28,0) -> 0 | J28: =IF((F28+G28+H28)>0,1300-(F28-H28-250),0) -> 0 | N28: =H28 -> 0 | O28: 250
C29: =IF(B28=TRUE,'Бланк для заполнения'!C14,0) -> 0 | D29: =IF(B28=TRUE,'Бланк для заполнения'!D14,0) -> 0 | L29: =I28-M29 -> 0 | M29: =IF(I28>G28,G28,0) -> 0 | N29: =F28 -> 0 | Q29: =IF(J28>G28,G28,0) -> 0 | R29: =J28-Q29 -> 0
C30: =IF(B31=TRUE,'Бланк для заполнения'!C15,0) -> 0 | D30: =IF(B31=TRUE,'Бланк для заполнения'!D15,0) -> 0
A31: 9 | B31: =OR($D$2='Бланк для заполнения'!C15,'Расчет ручки'!$F$2='Бланк для заполнения'!C15) -> FALSE | C31: =IF(B31=TRUE,'Бланк для заполнения'!C15,0) -> 0 | D31: =IF(B31=TRUE,'Бланк для заполнения'!D15,0) -> 0 | E31: =IF(B31=TRUE,'Бланк для заполнения'!G15,0) -> 0 | F31: =IF(B31=TRUE,'Бланк для заполнения'!E15,0) -> 0 | G31: =IF(B31=TRUE,'Бланк для заполнения'!F15,0) -> 0 | H31: =IF(B31=TRUE,'Бланк для заполнения'!H15,0) -> 0 | I31: =IF(H31>0,1300-H31,0) -> 0 | J31: =IF((F31+G31+H31)>0,1300-(F31-H31-250),0) -> 0 | N31: =H31 -> 0 | O31: 250
C32: =IF(B31=TRUE,'Бланк для заполнения'!C15,0) -> 0 | D32: =IF(B31=TRUE,'Бланк для заполнения'!D15,0) -> 0 | L32: =I31-M32 -> 0 | M32: =IF(I31>G31,G31,0) -> 0 | N32: =F31 -> 0 | Q32: =IF(J31>G31,G31,0) -> 0 | R32: =J31-Q32 -> 0
C33: =IF(B34=TRUE,'Бланк для заполнения'!C16,0) -> 0 | D33: =IF(B34=TRUE,'Бланк для заполнения'!D16,0) -> 0
A34: 10 | B34: =OR($D$2='Бланк для заполнения'!C16,'Расчет ручки'!$F$2='Бланк для заполнения'!C16) -> FALSE | C34: =IF(B34=TRUE,'Бланк для заполнения'!C16,0) -> 0 | D34: =IF(B34=TRUE,'Бланк для заполнения'!D16,0) -> 0 | E34: =IF(B34=TRUE,'Бланк для заполнения'!G16,0) -> 0 | F34: =IF(B34=TRUE,'Бланк для заполнения'!E16,0) -> 0 | G34: =IF(B34=TRUE,'Бланк для заполнения'!F16,0) -> 0 | H34: =IF(B34=TRUE,'Бланк для заполнения'!H16,0) -> 0 | I34: =IF(H34>0,1300-H34,0) -> 0 | J34: =IF((F34+G34+H34)>0,1300-(F34-H34-250),0) -> 0 | N34: =H34 -> 0 | O34: 250
C35: =IF(B34=TRUE,'Бланк для заполнения'!C16,0) -> 0 | D35: =IF(B34=TRUE,'Бланк для заполнения'!D16,0) -> 0 | L35: =I34-M35 -> 0 | M35: =IF(I34>G34,G34,0) -> 0 | N35: =F34 -> 0 | Q35: =IF(J34>G34,G34,0) -> 0 | R35: =J34-Q35 -> 0
C36: =IF(B37=TRUE,'Бланк для заполнения'!C17,0) -> 0 | D36: =IF(B37=TRUE,'Бланк для заполнения'!D17,0) -> 0
A37: 11 | B37: =OR($D$2='Бланк для заполнения'!C17,'Расчет ручки'!$F$2='Бланк для заполнения'!C17) -> FALSE | C37: =IF(B37=TRUE,'Бланк для заполнения'!C17,0) -> 0 | D37: =IF(B37=TRUE,'Бланк для заполнения'!D17,0) -> 0 | E37: =IF(B37=TRUE,'Бланк для заполнения'!G17,0) -> 0 | F37: =IF(B37=TRUE,'Бланк для заполнения'!E17,0) -> 0 | G37: =IF(B37=TRUE,'Бланк для заполнения'!F17,0) -> 0 | H37: =IF(B37=TRUE,'Бланк для заполнения'!H17,0) -> 0 | I37: =IF(H37>0,1300-H37,0) -> 0 | J37: =IF((F37+G37+H37)>0,1300-(F37-H37-250),0) -> 0 | N37: =H37 -> 0 | O37: 250
C38: =IF(B37=TRUE,'Бланк для заполнения'!C17,0) -> 0 | D38: =IF(B37=TRUE,'Бланк для заполнения'!D17,0) -> 0 | L38: =I37-M38 -> 0 | M38: =IF(I37>G37,G37,0) -> 0 | N38: =F37 -> 0 | Q38: =IF(J37>G37,G37,0) -> 0 | R38: =J37-Q38 -> 0
C39: =IF(B40=TRUE,'Бланк для заполнения'!C18,0) -> 0 | D39: =IF(B40=TRUE,'Бланк для заполнения'!D18,0) -> 0
A40: 12 | B40: =OR($D$2='Бланк для заполнения'!C18,'Расчет ручки'!$F$2='Бланк для заполнения'!C18) -> FALSE | C40: =IF(B40=TRUE,'Бланк для заполнения'!C18,0) -> 0 | D40: =IF(B40=TRUE,'Бланк для заполнения'!D18,0) -> 0 | E40: =IF(B40=TRUE,'Бланк для заполнения'!G18,0) -> 0 | F40: =IF(B40=TRUE,'Бланк для заполнения'!E18,0) -> 0 | G40: =IF(B40=TRUE,'Бланк для заполнения'!F18,0) -> 0 | H40: =IF(B40=TRUE,'Бланк для заполнения'!H18,0) -> 0 | I40: =IF(H40>0,1300-H40,0) -> 0 | J40: =IF((F40+G40+H40)>0,1300-(F40-H40-250),0) -> 0 | N40: =H40 -> 0 | O40: 250
C41: =IF(B40=TRUE,'Бланк для заполнения'!C18,0) -> 0 | D41: =IF(B40=TRUE,'Бланк для заполнения'!D18,0) -> 0 | L41: =I40-M41 -> 0 | M41: =IF(I40>G40,G40,0) -> 0 | N41: =F40 -> 0 | Q41: =IF(J40>G40,G40,0) -> 0 | R41: =J40-Q41 -> 0
C42: =IF(B43=TRUE,'Бланк для заполнения'!C19,0) -> 0 | D42: =IF(B43=TRUE,'Бланк для заполнения'!D19,0) -> 0
...
