Workbook
Name _1Excel_BuiltIn_Print_Area_1_1: #REF!
Name _1Excel_BuiltIn_Print_Area_1_1: #REF!
Name _2Excel_BuiltIn_Print_Titles_1_1: #REF!
Name _2Excel_BuiltIn_Print_Titles_1_1: #REF!
Name eee: #REF!
Name Excel_BuiltIn_Print_Area_3: #REF!
Name Excel_BuiltIn_Print_Area_3: #REF!
Name Excel_BuiltIn_Print_Titles_3: #REF!
Name Excel_BuiltIn_Print_Titles_3: #REF!
Name скидка: #REF!
Name скидка: #REF!
Name скидка1: #REF!
Name скидка1: #REF!
Name скидка2: #REF!
Name скидка2: #REF!

Sheet Фасадный профиль MD
J2: ТД "Мебельные Решения"
J3: Екатеринбург, пер. Геологов 1
J4: 8(343)344-64-08
J5: info@mebelre.ru
J7: mebelre.ru
A9: Ставка | B9: 95
A11: Ваша скидка | B11: 0
J13: Прайс-лист от 16.09.2026 г., в рублях, с НДС
A14: Изображение | B14: Наименование | C14: Артикул | D14: Цвет
D15: Серебро матовое | E15: Черный матовый | F15: Белый матовый | G15: Титан | H15: Инокс браш | I15: Черный браш | J15: Латунь браш
B16: Фасадный профиль (MD-01) 20*19*19мм, 6,0м | C16: HHJ-479 (MZ-01) | D16: =Расчет!B3*$B$9*(1-$B$11) -> 1980.044 | E16: =Расчет!C3*$B$9*(1-$B$11) -> 2064.678 | F16: =Расчет!D3*$B$9*(1-$B$11) -> 2194.896 | G16: =Расчет!E3*$B$9*(1-$B$11) -> 2194.896 | H16: =Расчет!F3*$B$9*(1-$B$11) -> 2155.824 | I16: =Расчет!G3*$B$9*(1-$B$11) -> 2212.232 | J16: =Расчет!H3*$B$9*(1-$B$11) -> 2312.09
B17: Фасадный профиль (MD-30) 22*21*7мм, 6,0м | C17: HHJ-478 (MF-30) | D17: =Расчет!B4*$B$9*(1-$B$11) -> 2873.84 | E17: =Расчет!C4*$B$9*(1-$B$11) -> 3003.066 | H17: =Расчет!F4*$B$9*(1-$B$11) -> 3142.238 | I17: =Расчет!G4*$B$9*(1-$B$11) -> 3231.69 | J17: =Расчет!H4*$B$9*(1-$B$11) -> 3380.806
B18: Фасадный профиль (MD-13) 45*20*8мм, 6,0м | C18: HHJ-477 (MZ-13) | D18: =Расчет!B5*$B$9*(1-$B$11) -> 3082.2 | E18: =Расчет!C5*$B$9*(1-$B$11) -> 3220.8 | F18: =Расчет!D5*$B$9*(1-$B$11) -> 3434.002 | G18: =Расчет!E5*$B$9*(1-$B$11) -> 3434.002 | H18: =Расчет!F5*$B$9*(1-$B$11) -> 3370.048 | I18: =Расчет!G5*$B$9*(1-$B$11) -> 3465.99 | J18: =Расчет!H5*$B$9*(1-$B$11) -> 3625.908
A19: Комплектующие
B20: Уголок узкий для алюминиевого фасадного профиля без винтов (MD-01) | C20: N011 | D20: Ожидаем поступление
B21: Уголок узкий для алюминиевого фасадного профиля без винтов (MD-30) | C21: N015 | D21: Ожидаем поступление
B22: Уголок широкий для алюминиевого фасадного профиля без винтов (MD-13) | C22: 7019 | D22: Ожидаем поступление
B23: РФА уплотнитель для алюминиевых фасадов, прозрачный | D23: =Расчет!B10*$B$9*(1-$B$11) -> 19.5075
B24: РФА уплотнитель для алюминиевых фасадов, черный | D24: =Расчет!B11*$B$9*(1-$B$11) -> 19.5075
B25: Винт М4*8 с потай. головой, под крест, DIN965, цинк | D25: =Расчет!B12*$B$9*(1-$B$11) -> 2.601
B26: Винт М4*8 с потай. головой, под крест, DIN965, черный | D26: =Расчет!B13*$B$9*(1-$B$11) -> 2.601
B27: Винт М5*10 с потай. головой, под крест, DIN965, цинк | D27: =Расчет!B14*$B$9*(1-$B$11) -> 6.5025
B28: Винт М5*10 с потай. головой, под крест, DIN965, черный | D28: =Расчет!B15*$B$9*(1-$B$11) -> 6.5025
B29: Винт М5*10 с потай. головой, под шестигранник, DIN7991 | D29: =Расчет!B16*$B$9*(1-$B$11) -> 6.5025

Sheet Расчет
A1: Наименование | B1: Цвет
B2: Серебро матовое | C2: Черный матовый | D2: Белый матовый | E2: Титан | F2: Инокс браш | G2: Черный браш | H2: Латунь браш
A3: Фасадный профиль (MD-01) 20*19*19мм, 6,0м | B3: 20.842568 | C3: 21.733453 | D3: 23.104168 | E3: 23.104168 | F3: 22.692884 | G3: 23.286653 | H3: 24.337789
A4: Фасадный профиль (MD-30) 22*21*7мм, 6,0м | B4: 30.250947 | C4: 31.611221 | D4: 0 | E4: 0 | F4: 33.076189 | G4: 34.017789 | H4: 35.587432
A5: Фасадный профиль (MD-13) 45*20*8мм, 6,0м | B5: 32.444211 | C5: 33.903158 | D5: 36.147389 | E5: 36.147389 | F5: 35.474189 | G5: 36.484105 | H5: 38.167453
A7: Уголок узкий для алюминиевого фасадного профиля без винтов (MD-01)
A8: Уголок узкий для алюминиевого фасадного профиля без винтов (MD-30)
A9: Уголок широкий для алюминиевого фасадного профиля без винтов (MD-13)
A10: РФА уплотнитель для алюминиевых фасадов, прозрачный | B10: 0.20534211
A11: РФА уплотнитель для алюминиевых фасадов, черный | B11: 0.20534211
A12: Винт М4*8 с потай. головой, под крест, DIN965, цинк | B12: 0.027378947
A13: Винт М4*8 с потай. головой, под крест, DIN965, черный | B13: 0.027378947
A14: Винт М5*10 с потай. головой, под крест, DIN965, цинк | B14: 0.068447368
A15: Винт М5*10 с потай. головой, под крест, DIN965, черный | B15: 0.068447368
A16: Винт М5*10 с потай. головой, под шестигранник, DIN7991 | B16: 0.068447368
